BEGIN:VCALENDAR
VERSION:2.0
PRODID:-//Sugar Rush Park - ECPv6.4.0.1//NONSGML v1.0//EN
CALSCALE:GREGORIAN
METHOD:PUBLISH
X-WR-CALNAME:Sugar Rush Park
X-ORIGINAL-URL:https://sugarrush.co.za
X-WR-CALDESC:Events for Sugar Rush Park
REFRESH-INTERVAL;VALUE=DURATION:PT1H
X-Robots-Tag:noindex
X-PUBLISHED-TTL:PT1H
BEGIN:VTIMEZONE
TZID:UTC
BEGIN:STANDARD
TZOFFSETFROM:+0000
TZOFFSETTO:+0000
TZNAME:UTC
DTSTART:20230101T000000
END:STANDARD
END:VTIMEZONE
BEGIN:VEVENT
DTSTART;TZID=UTC:20230414T000000
DTEND;TZID=UTC:20230416T000000
DTSTAMP:20260419T151817
CREATED:20230117T064525Z
LAST-MODIFIED:20230117T064525Z
UID:10000018-1681430400-1681603200@sugarrush.co.za
SUMMARY:North Coast Challenger
DESCRIPTION:3 Day MTB & 2 Day Trail Run Event\nHolla Trails at Sugar Rush Park
URL:https://sugarrush.co.za/events1/north-coast-challenger/
LOCATION:Sugar Rush
CATEGORIES:Live Event
ATTACH;FMTTYPE=image/jpeg:https://sugarrush.co.za/wp-content/uploads/2023/01/NORTH-COAST-CHALLENGER.jpg
END:VEVENT
END:VCALENDAR