BEGIN:VCALENDAR
VERSION:2.0
PRODID:-//Sugar Rush Park - ECPv6.4.0.1//NONSGML v1.0//EN
CALSCALE:GREGORIAN
METHOD:PUBLISH
X-ORIGINAL-URL:https://sugarrush.co.za
X-WR-CALDESC:Events for Sugar Rush Park
REFRESH-INTERVAL;VALUE=DURATION:PT1H
X-Robots-Tag:noindex
X-PUBLISHED-TTL:PT1H
BEGIN:VTIMEZONE
TZID:Europe/Helsinki
BEGIN:DAYLIGHT
TZOFFSETFROM:+0200
TZOFFSETTO:+0300
TZNAME:EEST
DTSTART:20260329T010000
END:DAYLIGHT
BEGIN:STANDARD
TZOFFSETFROM:+0300
TZOFFSETTO:+0200
TZNAME:EET
DTSTART:20261025T010000
END:STANDARD
END:VTIMEZONE
BEGIN:VEVENT
DTSTART;TZID=Europe/Helsinki:20260404T090000
DTEND;TZID=Europe/Helsinki:20260404T160000
DTSTAMP:20260424T234936
CREATED:20260316T071751Z
LAST-MODIFIED:20260316T071920Z
UID:10002908-1775293200-1775318400@sugarrush.co.za
SUMMARY:Easter Workshop with Madame Butterfly
DESCRIPTION:R280 pp \nBook: 073 063 9385
URL:https://sugarrush.co.za/events1/easter-workshop-with-madame-butterfly/
LOCATION:Sugar Rush
CATEGORIES:Workshop
ATTACH;FMTTYPE=image/png:https://sugarrush.co.za/wp-content/uploads/2026/03/unnamed-2.png
END:VEVENT
END:VCALENDAR