BEGIN:VCALENDAR
VERSION:2.0
PRODID:-//Sugar Rush Park - ECPv6.4.0.1//NONSGML v1.0//EN
CALSCALE:GREGORIAN
METHOD:PUBLISH
X-ORIGINAL-URL:https://sugarrush.co.za
X-WR-CALDESC:Events for Sugar Rush Park
REFRESH-INTERVAL;VALUE=DURATION:PT1H
X-Robots-Tag:noindex
X-PUBLISHED-TTL:PT1H
BEGIN:VTIMEZONE
TZID:Europe/Helsinki
BEGIN:DAYLIGHT
TZOFFSETFROM:+0200
TZOFFSETTO:+0300
TZNAME:EEST
DTSTART:20260329T010000
END:DAYLIGHT
BEGIN:STANDARD
TZOFFSETFROM:+0300
TZOFFSETTO:+0200
TZNAME:EET
DTSTART:20261025T010000
END:STANDARD
END:VTIMEZONE
BEGIN:VEVENT
DTSTART;TZID=Europe/Helsinki:20260328T100000
DTEND;TZID=Europe/Helsinki:20260328T130000
DTSTAMP:20260425T012822
CREATED:20260302T092955Z
LAST-MODIFIED:20260302T093926Z
UID:10002907-1774692000-1774702800@sugarrush.co.za
SUMMARY:Texture Art Workshop with Madame Butterfly
DESCRIPTION:Join us for a relaxing and creative textured art workshop where you’ll transform a pre-drawn canvas into a beautiful\, raised artwork using acrylic paint and texture mediums. \nTicket includes a complimentary cupcake with icing & topping of your choice \nR450PP \nTO BOOK: WHATSAPP 073 063 9385
URL:https://sugarrush.co.za/events1/texture-art-workshop-with-madame-butterfly/
LOCATION:Sugar Rush
CATEGORIES:Workshop
ATTACH;FMTTYPE=image/png:https://sugarrush.co.za/wp-content/uploads/2026/03/Art-Workshop-Colorful-Illustrative-Instagram-Post-Instagram-Post-4_5_20260227_124954_0000.png
END:VEVENT
END:VCALENDAR