BEGIN:VCALENDAR
VERSION:2.0
PRODID:-//Sugar Rush Park - ECPv6.4.0.1//NONSGML v1.0//EN
CALSCALE:GREGORIAN
METHOD:PUBLISH
X-WR-CALNAME:Sugar Rush Park
X-ORIGINAL-URL:https://sugarrush.co.za
X-WR-CALDESC:Events for Sugar Rush Park
REFRESH-INTERVAL;VALUE=DURATION:PT1H
X-Robots-Tag:noindex
X-PUBLISHED-TTL:PT1H
BEGIN:VTIMEZONE
TZID:Europe/Helsinki
BEGIN:DAYLIGHT
TZOFFSETFROM:+0200
TZOFFSETTO:+0300
TZNAME:EEST
DTSTART:20260329T010000
END:DAYLIGHT
BEGIN:STANDARD
TZOFFSETFROM:+0300
TZOFFSETTO:+0200
TZNAME:EET
DTSTART:20261025T010000
END:STANDARD
END:VTIMEZONE
BEGIN:VEVENT
DTSTART;TZID=Europe/Helsinki:20260214T063000
DTEND;TZID=Europe/Helsinki:20260214T073000
DTSTAMP:20260424T224838
CREATED:20260106T062630Z
LAST-MODIFIED:20260106T062630Z
UID:10002905-1771050600-1771054200@sugarrush.co.za
SUMMARY:Valentine’s Day Puppy Yoga
DESCRIPTION:Save the date!\n\nA special Valentine’s Day with Safe Foster Network and Secret Sunrise Durban \n\nWe are doing a VALENTINE’S DAY Puppy Yoga with SAFE Fostering Network! \nEach participant is to pay R100 to SAFE at the registration table on the day. They will have a guest list with them and you can pay them cash or zapper at the table. \nWHEN: Saturday the 14th of February 2026 \nWireless headphones will be provided for the hour \n\n\nEntrance Fee: \n*** R100 to Secret Sunrise on booking\, and then R100 to SAFE on the day at registration \nBRING YOUR OWN YOGA MAT \n  \nLIMITED PRE-ENTRIES only. No tickets will be sold at the door. \nCome get bendy with us and #ShareTheJoy <3 \nContact us on durban@secretsunrise.com if you have any questions! \n  \nT’s & C’s apply \nDisclaimer: Secret Sunrise will not be held liable for any loss\, theft or damage to personal property. \n\nBookings are open: https://qkt.io/cYfNRA
URL:https://sugarrush.co.za/events1/valentines-day-puppy-yoga/
LOCATION:Sugar Rush
CATEGORIES:Live Event
ATTACH;FMTTYPE=image/jpeg:https://sugarrush.co.za/wp-content/uploads/2026/01/puppy-yoga.jpeg
END:VEVENT
BEGIN:VEVENT
DTSTART;TZID=Europe/Helsinki:20260214T120000
DTEND;TZID=Europe/Helsinki:20260214T180000
DTSTAMP:20260424T224838
CREATED:20260128T080516Z
LAST-MODIFIED:20260128T080905Z
UID:10002906-1771070400-1771092000@sugarrush.co.za
SUMMARY:Galentine’s Day Sip\, Snack & Paint
DESCRIPTION:No Valentine’s plans? Now you do!⁠ Skip the ordinary and do something fun with your bestie! Join Madame Butterfly for a Tote Bag Painting Garden Party under the trees (weather permitting). Laughs\, creativity and good vibes guaranteed. ⁠ ⁠ The Grateful Platter will have their pop-up sweet treat cart available on the day too!⁠ ⁠ Contact 0730639385 to make a booking.⁠
URL:https://sugarrush.co.za/events1/galentines-day-sip-snack-paint/
LOCATION:Sugar Rush
CATEGORIES:Live Event
ATTACH;FMTTYPE=image/png:https://sugarrush.co.za/wp-content/uploads/2026/01/SR-EVENT.png
END:VEVENT
END:VCALENDAR